BEGIN:VCALENDAR
VERSION:2.0
PRODID:-//Tukios.com/
BEGIN:VEVENT
UID:95ec8572-d7a1-402a-bbc8-5d1800d6e9c6@www.hopkinsfuneralhome.com
DTSTAMP:20260420T165115Z
DTSTART:20260427T170000Z
DTEND:20260427T180000Z
SUMMARY:Memorial Service
DESCRIPTION:
URL:https://www.hopkinsfuneralhome.com/obituaries/elna-markert
LOCATION:Church of the Purification 240 Washington Road  Crawfordville GA 
	30631
GEO:33.5635941;-82.7935243
END:VEVENT
END:VCALENDAR