BEGIN:VCALENDAR
VERSION:2.0
PRODID:-//Tukios.com/
BEGIN:VEVENT
UID:b9f7f060-1db1-4bf5-98aa-8dc9cd7ed341@www.hopkinsfuneralhome.com
DTSTAMP:20260422T205459Z
DTSTART:20260509T140000Z
DTEND:20260509T150000Z
SUMMARY:Visitation
DESCRIPTION:
URL:https://www.hopkinsfuneralhome.com/obituaries/joseph-harris
LOCATION:Hopkins Funeral Home 416 E Robert Toombs Ave  Washington GA 
	30673
GEO:33.7345282;-82.7302057
END:VEVENT
END:VCALENDAR