BEGIN:VCALENDAR
VERSION:2.0
PRODID:-//Tukios.com/
BEGIN:VEVENT
UID:df88479e-d9b9-47f9-8ae4-c12c9a01175c@www.hopkinsfuneralhome.com
DTSTAMP:20260422T205642Z
DTSTART:20260509T150000Z
DTEND:20260509T160000Z
SUMMARY:Funeral Service
DESCRIPTION:
URL:https://www.hopkinsfuneralhome.com/obituaries/joseph-harris
LOCATION:Hopkins Funeral Home 416 E Robert Toombs Ave  Washington GA 
	30673
GEO:33.7345282;-82.7302057
END:VEVENT
END:VCALENDAR